BEGIN:VCALENDAR
VERSION:2.0
PRODID:-//Hervormd Wekerom - ECPv6.15.20//NONSGML v1.0//EN
CALSCALE:GREGORIAN
METHOD:PUBLISH
X-WR-CALNAME:Hervormd Wekerom
X-ORIGINAL-URL:https://hervormdwekerom.nl
X-WR-CALDESC:Evenementen voor Hervormd Wekerom
REFRESH-INTERVAL;VALUE=DURATION:PT1H
X-Robots-Tag:noindex
X-PUBLISHED-TTL:PT1H
BEGIN:VTIMEZONE
TZID:Europe/Amsterdam
BEGIN:DAYLIGHT
TZOFFSETFROM:+0100
TZOFFSETTO:+0200
TZNAME:CEST
DTSTART:20220327T010000
END:DAYLIGHT
BEGIN:STANDARD
TZOFFSETFROM:+0200
TZOFFSETTO:+0100
TZNAME:CET
DTSTART:20221030T010000
END:STANDARD
BEGIN:DAYLIGHT
TZOFFSETFROM:+0100
TZOFFSETTO:+0200
TZNAME:CEST
DTSTART:20230326T010000
END:DAYLIGHT
BEGIN:STANDARD
TZOFFSETFROM:+0200
TZOFFSETTO:+0100
TZNAME:CET
DTSTART:20231029T010000
END:STANDARD
BEGIN:DAYLIGHT
TZOFFSETFROM:+0100
TZOFFSETTO:+0200
TZNAME:CEST
DTSTART:20240331T010000
END:DAYLIGHT
BEGIN:STANDARD
TZOFFSETFROM:+0200
TZOFFSETTO:+0100
TZNAME:CET
DTSTART:20241027T010000
END:STANDARD
END:VTIMEZONE
BEGIN:VEVENT
DTSTART;TZID=Europe/Amsterdam:20230517T193000
DTEND;TZID=Europe/Amsterdam:20230517T193000
DTSTAMP:20260419T165157
CREATED:20230417T083822Z
LAST-MODIFIED:20230417T084012Z
UID:5258-1684351800-1684351800@hervormdwekerom.nl
SUMMARY:ZEC Schilderworkshop
DESCRIPTION:Altijd al de wens gehad om zelf een schilderij te maken? Nu krijgt u de kans om dit te doen! \nOp woensdag 17 mei om 19.30 uur in Elim wordt deze workshop gegeven onder begeleiding van Ria Willemsen. U kunt kiezen uit drie verschillende afbeeldingen (zie de folders).\nDe kosten zijn € 22\,50 inclusief koffie/thee en iets lekkers. De opbrengst is voor het project Deelgenoten t.n.v. Kees en Claudia Geluk in Costa Rica. \nAanmelden graag voor 15 mei via het aanmeldformulier of telefonisch.\n1 – inleveren bij de kerk\n2 – Janny Russcher\, De Ring 5 – tel./app 06-34885055\n3 – Ria Willemsen\, De Hooyer 2\, tel./app 06-27563182\nBetaling contant of via het bankrekeningnummer van de ZEC: NL 65 RABO 0368509354.
URL:https://hervormdwekerom.nl/activiteit/zec-schilderworkshop/
LOCATION:Elim
ATTACH;FMTTYPE=image/jpeg:https://hervormdwekerom.nl/wp-content/uploads/2021/03/Costa-Rica.jpg
END:VEVENT
END:VCALENDAR