BEGIN:VCALENDAR
VERSION:2.0
PRODID:-//Hervormd Wekerom - ECPv6.15.20//NONSGML v1.0//EN
CALSCALE:GREGORIAN
METHOD:PUBLISH
X-ORIGINAL-URL:https://hervormdwekerom.nl
X-WR-CALDESC:Evenementen voor Hervormd Wekerom
REFRESH-INTERVAL;VALUE=DURATION:PT1H
X-Robots-Tag:noindex
X-PUBLISHED-TTL:PT1H
BEGIN:VTIMEZONE
TZID:Europe/Amsterdam
BEGIN:DAYLIGHT
TZOFFSETFROM:+0100
TZOFFSETTO:+0200
TZNAME:CEST
DTSTART:20220327T010000
END:DAYLIGHT
BEGIN:STANDARD
TZOFFSETFROM:+0200
TZOFFSETTO:+0100
TZNAME:CET
DTSTART:20221030T010000
END:STANDARD
BEGIN:DAYLIGHT
TZOFFSETFROM:+0100
TZOFFSETTO:+0200
TZNAME:CEST
DTSTART:20230326T010000
END:DAYLIGHT
BEGIN:STANDARD
TZOFFSETFROM:+0200
TZOFFSETTO:+0100
TZNAME:CET
DTSTART:20231029T010000
END:STANDARD
BEGIN:DAYLIGHT
TZOFFSETFROM:+0100
TZOFFSETTO:+0200
TZNAME:CEST
DTSTART:20240331T010000
END:DAYLIGHT
BEGIN:STANDARD
TZOFFSETFROM:+0200
TZOFFSETTO:+0100
TZNAME:CET
DTSTART:20241027T010000
END:STANDARD
END:VTIMEZONE
BEGIN:VEVENT
DTSTART;TZID=Europe/Amsterdam:20230318T140000
DTEND;TZID=Europe/Amsterdam:20230318T193000
DTSTAMP:20260419T182623
CREATED:20230213T124410Z
LAST-MODIFIED:20230227T131655Z
UID:5210-1679148000-1679167800@hervormdwekerom.nl
SUMMARY:GZB – zendingsdag
DESCRIPTION:De GZB is dankbaar dat na een aantal jaren weer een zendingsdag mag worden gehouden. Een dag van ontmoeting\, samen luisteren naar verhalen uit de wereldkerk\, samen zingen en met elkaar bidden. Zending zonder gebed is ondenkbaar.\nJe verbonden voelen met Gods wereldwijde kerk – dat kan tijdens de GZB-dag op zaterdag 18 maart in Barneveld\, in de Midden Nederland Hallen. Er zijn sprekers uit Malawi en de Filipijnen en activiteiten voor jong en oud.\nU kunt kiezen of u ’s middags of ’s avonds komt. De middag is meer op kinderen/tieners gericht en de avond meer op jongeren.\nAanmelden is noodzakelijk bij het podiumprogramma om 14.00 en 19.30 uur omdat daar plaats is voor een maximaal aantal personen. Tussen 16.00 en 19.00 uur is iedereen welkom op het ontmoetingsplein; er zijn workshops\, GZB-stands\, kraampjes met een hapje en een drankje en er is een veiling.\nThema van de GZB-dag is ‘Bid\, zonder ophouden’. Voor meer informatie en aanmelden www.gzb.nl/gzb-dag.
URL:https://hervormdwekerom.nl/activiteit/gzb-zendingsdag/
LOCATION:Midden Nederland Hallen\, Thorbeckelaan. 123\, Barneveld
ATTACH;FMTTYPE=image/jpeg:https://hervormdwekerom.nl/wp-content/uploads/2016/09/GZB-def.jpg
END:VEVENT
END:VCALENDAR