BEGIN:VCALENDAR
VERSION:2.0
PRODID:-//Hervormd Wekerom - ECPv6.15.20//NONSGML v1.0//EN
CALSCALE:GREGORIAN
METHOD:PUBLISH
X-ORIGINAL-URL:https://hervormdwekerom.nl
X-WR-CALDESC:Evenementen voor Hervormd Wekerom
REFRESH-INTERVAL;VALUE=DURATION:PT1H
X-Robots-Tag:noindex
X-PUBLISHED-TTL:PT1H
BEGIN:VTIMEZONE
TZID:Europe/Amsterdam
BEGIN:DAYLIGHT
TZOFFSETFROM:+0100
TZOFFSETTO:+0200
TZNAME:CEST
DTSTART:20240331T010000
END:DAYLIGHT
BEGIN:STANDARD
TZOFFSETFROM:+0200
TZOFFSETTO:+0100
TZNAME:CET
DTSTART:20241027T010000
END:STANDARD
BEGIN:DAYLIGHT
TZOFFSETFROM:+0100
TZOFFSETTO:+0200
TZNAME:CEST
DTSTART:20250330T010000
END:DAYLIGHT
BEGIN:STANDARD
TZOFFSETFROM:+0200
TZOFFSETTO:+0100
TZNAME:CET
DTSTART:20251026T010000
END:STANDARD
BEGIN:DAYLIGHT
TZOFFSETFROM:+0100
TZOFFSETTO:+0200
TZNAME:CEST
DTSTART:20260329T010000
END:DAYLIGHT
BEGIN:STANDARD
TZOFFSETFROM:+0200
TZOFFSETTO:+0100
TZNAME:CET
DTSTART:20261025T010000
END:STANDARD
END:VTIMEZONE
BEGIN:VEVENT
DTSTART;TZID=Europe/Amsterdam:20250705T170000
DTEND;TZID=Europe/Amsterdam:20250705T213000
DTSTAMP:20260420T195242
CREATED:20250616T121840Z
LAST-MODIFIED:20250630T183733Z
UID:6160-1751734800-1751751000@hervormdwekerom.nl
SUMMARY:Volleybaltoernooi
DESCRIPTION:Zaterdag 5 juli willen we met de gezamenlijke kerkelijke gemeenten het jaarlijkse volleybaltoernooi weer een nieuwe start geven. \nDit zal\, zoals eerder ook het gebruik was\, gehouden worden op het voetbalveld van Wekerom.\nDit is voor alle jongeren vanaf klas 2. Dus ook voor mensen die zich nog jong voelen.\nOok is er weer de gelegenheid om een broodje hamburger (tegen betaling) te nuttigen.\nDus lijkt het je leuk om mee te doen\, dan moet je deze datum alvast vrijhouden.  \nWe willen verzamelen vanaf 17.00 uur en om 17.30 uur starten met de wedstrijden.\nTussendoor zal er\, zoals gebruikelijk\, een bezinningsmoment zijn\, en volgens verwachting zullen we de prijs rond 21.00 uur kunnen uitreiken. \nWe zien uit naar jullie deelname en sportieve support. Tot dan!
URL:https://hervormdwekerom.nl/activiteit/volleybaltoernooi/
LOCATION:Voetbalveld SDS Wekerom
END:VEVENT
BEGIN:VEVENT
DTSTART;TZID=Europe/Amsterdam:20250719T120000
DTEND;TZID=Europe/Amsterdam:20250726T120000
DTSTAMP:20260420T195242
CREATED:20230628T175606Z
LAST-MODIFIED:20250630T110515Z
UID:5431-1752926400-1753531200@hervormdwekerom.nl
SUMMARY:Zomerkamp 2025
DESCRIPTION:Nog zo’n twee weken en dan hopen we samen met de jeugd op kamp te gaan naar kampeerboerderij ‘t Boerenerf in Woudenberg.\nEr hebben zich dit jaar 46 deelnemers aangemeld voor het zomerkamp. \nOp zaterdag 19 juli is om 15.30 uur de opening van de kampweek in de kerk. Iedereen is van harte welkom bij de opening om ons daarna uit te zwaaien. \nOok zal in dit kamp Gods Woord niet ontbreken. Het thema is: ‘Ga mee op avontuur’.\nTijdens kamp gaan we samen op avontuur! Petrus neemt ons mee in zijn avontuur\, samen met Jezus. Ik kan je vertellen\, hij heeft heel veel meegemaakt. Petrus’ naam mag dan wel rots betekenen\, maar ook Petrus was wel eens bang en moest leren vertrouwen op Jezus. \nOns kamplied is: Zo stevig als wat. Van dit lied mogen we leren dat als we op God vertrouwen\, we stevig zullen blijven staan. Wij kijken ernaar uit om jullie mee te nemen in alle verhalen.\nBidt u met ons mee om het licht van de Heilige Geest bij de uitleg van de diverse Bijbelgedeelten? \nOp dinsdag 22 juli is iedereen die belangstelling heeft tussen 19.00 en 20.30 uur van harte welkom. \nHet adres is: Camping en Kampeerboerderij ’t Boerenerf\nDe Heygraeff 15\n3931 MK Woudenberg \nZaterdag 26 juli hopen we rond 10.00 uur weer in Wekerom te zijn.\nU kunt ons volgen: \nWilt u een e-mail ontvangen zodra er een nieuw bericht is geplaatst? Meld u hier dan voor aan via de website: www.zomerkamp.hervormdwekerom.nl \nDe voorbereidingen zijn bijna klaar\, de weekplanning is gemaakt. We kijken ernaar uit. \nAlwin van den Top\, Arjan Morren\, Caroline Blotenburg\, Dan van den Berg\, Daniëlle van Heerikhuize\, Elma Verhoeve\, Enrico Klok\, Gerianne van Luttikhuizen\, Gerlise Bettink\, Jarco Bettink\, Jonathan Breen\, Lennard Verhoeve\, Rosalie van Duinen\, Tamara van den Hoek\, Wilco van Leijenhorst en William Veldhuizen
URL:https://hervormdwekerom.nl/activiteit/zomerkamp-2023/
END:VEVENT
END:VCALENDAR